BEGIN:VCALENDAR
VERSION:2.0
PRODID:-//3nity.com//3nity CMS//EN
BEGIN:VEVENT
SUMMARY:DD Meeting with the State Deputy
UID:2026-07-18-1213968@floridakofc.org
SEQUENCE:0
STATUS:CONFIRMED
DTSTART:20260425T090000
DTEND:20260425T110000
DTSTAMP:20161222T120000
DESCRIPTION:DD Meeting via Zoom with State Deputy. Subject to change. Please check for reminder email and link    https://us06web.zoom.us/j/86989617684?pwd=VFQ5M3NxZnMyRGp6aC9ZM09DcVE1QT09
URL:http://floridakofc.org
END:VEVENT
END:VCALENDAR
